BEGIN:VCALENDAR
VERSION:2.0
PRODID:-//Kultur und Heimatverein Magdeburg - ECPv6.15.20//NONSGML v1.0//EN
CALSCALE:GREGORIAN
METHOD:PUBLISH
X-ORIGINAL-URL:https://khv-magdeburg.de
X-WR-CALDESC:Veranstaltungen für Kultur und Heimatverein Magdeburg
REFRESH-INTERVAL;VALUE=DURATION:PT1H
X-Robots-Tag:noindex
X-PUBLISHED-TTL:PT1H
BEGIN:VTIMEZONE
TZID:Europe/Berlin
BEGIN:DAYLIGHT
TZOFFSETFROM:+0100
TZOFFSETTO:+0200
TZNAME:CEST
DTSTART:20250330T010000
END:DAYLIGHT
BEGIN:STANDARD
TZOFFSETFROM:+0200
TZOFFSETTO:+0100
TZNAME:CET
DTSTART:20251026T010000
END:STANDARD
BEGIN:DAYLIGHT
TZOFFSETFROM:+0100
TZOFFSETTO:+0200
TZNAME:CEST
DTSTART:20260329T010000
END:DAYLIGHT
BEGIN:STANDARD
TZOFFSETFROM:+0200
TZOFFSETTO:+0100
TZNAME:CET
DTSTART:20261025T010000
END:STANDARD
BEGIN:DAYLIGHT
TZOFFSETFROM:+0100
TZOFFSETTO:+0200
TZNAME:CEST
DTSTART:20270328T010000
END:DAYLIGHT
BEGIN:STANDARD
TZOFFSETFROM:+0200
TZOFFSETTO:+0100
TZNAME:CET
DTSTART:20271031T010000
END:STANDARD
END:VTIMEZONE
BEGIN:VEVENT
DTSTART;TZID=Europe/Berlin:20260408T160000
DTEND;TZID=Europe/Berlin:20260408T170000
DTSTAMP:20260425T134317
CREATED:20251202T173345Z
LAST-MODIFIED:20260112T122532Z
UID:865-1775664000-1775667600@khv-magdeburg.de
SUMMARY:Junge Mineralogen
DESCRIPTION:Sulfate und Halogenide
URL:https://khv-magdeburg.de/event/sulfate-und-halogenide/
LOCATION:Museum Magdeburg\, Otto-von-Guericke-Straße 68-73\,\, Magdeburg\, Sachsen-Anhalt\, 39104\, Germany
CATEGORIES:Junge Mineralogen
ATTACH;FMTTYPE=image/jpeg:https://khv-magdeburg.de/wp-content/uploads/2025/11/Ju-Min-e1766850842693.jpg
END:VEVENT
BEGIN:VEVENT
DTSTART;TZID=Europe/Berlin:20260408T171500
DTEND;TZID=Europe/Berlin:20260408T200000
DTSTAMP:20260425T134317
CREATED:20260112T075044Z
LAST-MODIFIED:20260123T084928Z
UID:1822-1775668500-1775678400@khv-magdeburg.de
SUMMARY:AG Genealogie
DESCRIPTION:Vorstandssitzung in der „Stadtfeldklause“
URL:https://khv-magdeburg.de/event/ag-genealogie-5/
LOCATION:Stadtfeldklause\, Große Diesdorfer Straße 202\, Magdeburg\, Sachsen-Anhalt\, 39110\, Germany
CATEGORIES:AG Genealogie
END:VEVENT
BEGIN:VEVENT
DTSTART;TZID=Europe/Berlin:20260408T180000
DTEND;TZID=Europe/Berlin:20260408T190000
DTSTAMP:20260425T134317
CREATED:20251129T145112Z
LAST-MODIFIED:20260112T123139Z
UID:772-1775671200-1775674800@khv-magdeburg.de
SUMMARY:Mineralogie und Geologie
DESCRIPTION:Die Entstehung der Elemente \nMarian Szengel\, Magdeburg
URL:https://khv-magdeburg.de/event/die-entstehung-der-elemente/
LOCATION:Pik ASZ\, Leipziger Straße 43\, Magdeburg\, Sachsen-Anhalt\, 39120\, Germany
CATEGORIES:Mineralogie und Geologie
ATTACH;FMTTYPE=image/jpeg:https://khv-magdeburg.de/wp-content/uploads/2025/11/3-Sonnen-3.jpg
END:VEVENT
END:VCALENDAR