BEGIN:VCALENDAR
VERSION:2.0
PRODID:-//Kultur und Heimatverein Magdeburg - ECPv6.15.20//NONSGML v1.0//EN
CALSCALE:GREGORIAN
METHOD:PUBLISH
X-WR-CALNAME:Kultur und Heimatverein Magdeburg
X-ORIGINAL-URL:https://khv-magdeburg.de
X-WR-CALDESC:Veranstaltungen für Kultur und Heimatverein Magdeburg
REFRESH-INTERVAL;VALUE=DURATION:PT1H
X-Robots-Tag:noindex
X-PUBLISHED-TTL:PT1H
BEGIN:VTIMEZONE
TZID:Europe/Berlin
BEGIN:DAYLIGHT
TZOFFSETFROM:+0100
TZOFFSETTO:+0200
TZNAME:CEST
DTSTART:20250330T010000
END:DAYLIGHT
BEGIN:STANDARD
TZOFFSETFROM:+0200
TZOFFSETTO:+0100
TZNAME:CET
DTSTART:20251026T010000
END:STANDARD
BEGIN:DAYLIGHT
TZOFFSETFROM:+0100
TZOFFSETTO:+0200
TZNAME:CEST
DTSTART:20260329T010000
END:DAYLIGHT
BEGIN:STANDARD
TZOFFSETFROM:+0200
TZOFFSETTO:+0100
TZNAME:CET
DTSTART:20261025T010000
END:STANDARD
BEGIN:DAYLIGHT
TZOFFSETFROM:+0100
TZOFFSETTO:+0200
TZNAME:CEST
DTSTART:20270328T010000
END:DAYLIGHT
BEGIN:STANDARD
TZOFFSETFROM:+0200
TZOFFSETTO:+0100
TZNAME:CET
DTSTART:20271031T010000
END:STANDARD
END:VTIMEZONE
BEGIN:VEVENT
DTSTART;TZID=Europe/Berlin:20260415T173000
DTEND;TZID=Europe/Berlin:20260415T193000
DTSTAMP:20260425T134236
CREATED:20260112T075045Z
LAST-MODIFIED:20260123T084928Z
UID:1823-1776274200-1776281400@khv-magdeburg.de
SUMMARY:AG Genealogie
DESCRIPTION:Vortrag von Frau Prof. Dr. Eva Labouvie\, Uni Magdeburg: „Aberglaube und Protestantismus seit der Reformation“
URL:https://khv-magdeburg.de/event/ag-genealogie-6/
LOCATION:Literaturhaus Magdeburg\, Thiemstraße 7\, Magdeburg\, Sachsen-Anhalt\, 39102\, Germany
CATEGORIES:AG Genealogie
END:VEVENT
END:VCALENDAR