BEGIN:VCALENDAR
VERSION:2.0
PRODID:-//Kultur und Heimatverein Magdeburg - ECPv6.15.20//NONSGML v1.0//EN
CALSCALE:GREGORIAN
METHOD:PUBLISH
X-WR-CALNAME:Kultur und Heimatverein Magdeburg
X-ORIGINAL-URL:https://khv-magdeburg.de
X-WR-CALDESC:Veranstaltungen für Kultur und Heimatverein Magdeburg
REFRESH-INTERVAL;VALUE=DURATION:PT1H
X-Robots-Tag:noindex
X-PUBLISHED-TTL:PT1H
BEGIN:VTIMEZONE
TZID:Europe/Berlin
BEGIN:DAYLIGHT
TZOFFSETFROM:+0100
TZOFFSETTO:+0200
TZNAME:CEST
DTSTART:20250330T010000
END:DAYLIGHT
BEGIN:STANDARD
TZOFFSETFROM:+0200
TZOFFSETTO:+0100
TZNAME:CET
DTSTART:20251026T010000
END:STANDARD
BEGIN:DAYLIGHT
TZOFFSETFROM:+0100
TZOFFSETTO:+0200
TZNAME:CEST
DTSTART:20260329T010000
END:DAYLIGHT
BEGIN:STANDARD
TZOFFSETFROM:+0200
TZOFFSETTO:+0100
TZNAME:CET
DTSTART:20261025T010000
END:STANDARD
BEGIN:DAYLIGHT
TZOFFSETFROM:+0100
TZOFFSETTO:+0200
TZNAME:CEST
DTSTART:20270328T010000
END:DAYLIGHT
BEGIN:STANDARD
TZOFFSETFROM:+0200
TZOFFSETTO:+0100
TZNAME:CET
DTSTART:20271031T010000
END:STANDARD
END:VTIMEZONE
BEGIN:VEVENT
DTSTART;TZID=Europe/Berlin:20260423T000000
DTEND;TZID=Europe/Berlin:20260424T235959
DTSTAMP:20260423T163042
CREATED:20251129T145327Z
LAST-MODIFIED:20260215T094259Z
UID:774-1776902400-1777075199@khv-magdeburg.de
SUMMARY:Mineralogie und Geologie
DESCRIPTION:geologische Exkursion Göttingen / südwestlicher Oberharz \nEs ergeht eine gesonderte Einladung an die Mitglieder der Fachgruppe Mineralogie und Geologie.
URL:https://khv-magdeburg.de/event/geologische-exkursion-goettingen-suedwestlichen-oberharz/
CATEGORIES:Mineralogie und Geologie
ATTACH;FMTTYPE=image/jpeg:https://khv-magdeburg.de/wp-content/uploads/2025/11/2026-Exkursion-Goettingen.jpg
END:VEVENT
END:VCALENDAR