BEGIN:VCALENDAR
VERSION:2.0
PRODID:-//Kultur und Heimatverein Magdeburg - ECPv6.15.20//NONSGML v1.0//EN
CALSCALE:GREGORIAN
METHOD:PUBLISH
X-ORIGINAL-URL:https://khv-magdeburg.de
X-WR-CALDESC:Veranstaltungen für Kultur und Heimatverein Magdeburg
REFRESH-INTERVAL;VALUE=DURATION:PT1H
X-Robots-Tag:noindex
X-PUBLISHED-TTL:PT1H
BEGIN:VTIMEZONE
TZID:Europe/Berlin
BEGIN:DAYLIGHT
TZOFFSETFROM:+0100
TZOFFSETTO:+0200
TZNAME:CEST
DTSTART:20250330T010000
END:DAYLIGHT
BEGIN:STANDARD
TZOFFSETFROM:+0200
TZOFFSETTO:+0100
TZNAME:CET
DTSTART:20251026T010000
END:STANDARD
BEGIN:DAYLIGHT
TZOFFSETFROM:+0100
TZOFFSETTO:+0200
TZNAME:CEST
DTSTART:20260329T010000
END:DAYLIGHT
BEGIN:STANDARD
TZOFFSETFROM:+0200
TZOFFSETTO:+0100
TZNAME:CET
DTSTART:20261025T010000
END:STANDARD
BEGIN:DAYLIGHT
TZOFFSETFROM:+0100
TZOFFSETTO:+0200
TZNAME:CEST
DTSTART:20270328T010000
END:DAYLIGHT
BEGIN:STANDARD
TZOFFSETFROM:+0200
TZOFFSETTO:+0100
TZNAME:CET
DTSTART:20271031T010000
END:STANDARD
END:VTIMEZONE
BEGIN:VEVENT
DTSTART;TZID=Europe/Berlin:20260205T170000
DTEND;TZID=Europe/Berlin:20260327T200000
DTSTAMP:20260425T134348
CREATED:20260120T152925Z
LAST-MODIFIED:20260207T165637Z
UID:1930-1770310800-1774641600@khv-magdeburg.de
SUMMARY:Fotoausstellung "Herrenhäuser"
DESCRIPTION:Der „Fotoclub 88 Magdeburg“ lädt am Donnerstag 05.02.2026 zur Fotoausstellung „Herrenhäuser“ in der Stadtbibliothek Magdeburg\, Breiter Weg 109\, 39104 Magdeburg ein.\nDie Vernissage beginnt um 17:00 Uhr. Gezeigt werden vier ausgewählte Villen\, die im 19 Jahrhundert mit der voranschreitenden Industrialisierung in Magdeburg entstanden sind. \nIm Rahmen der Fotoausstellung werden zwei Workshops von Fotofreund Manfred Kunze des „Fotoclub 88 Magdeburg“\, in der Stadtbibliothek durchgeführt. \n-am Dienstag 10.02.2026 um 17:00 Uhr zum Thema „Fotografische Grundausstattungen“ \n-am Mittwoch 25.02.1026 um 17:00 Uhr zum Thema „Fotografische Grundlagen zum Blitzen
URL:https://khv-magdeburg.de/event/fotoausstellung-herrenhaeuser/
LOCATION:Stadtbibliothek Magdeburg\, Breiter Weg 109\, Magdeburg\, Sachsen-Anhalt\, 39104\, Germany
CATEGORIES:Fotoclub 88
ATTACH;FMTTYPE=image/jpeg:https://khv-magdeburg.de/wp-content/uploads/2026/01/fc88-logo.jpg
END:VEVENT
BEGIN:VEVENT
DTSTART;TZID=Europe/Berlin:20260304T160000
DTEND;TZID=Europe/Berlin:20260304T180000
DTSTAMP:20260425T134348
CREATED:20260121T074110Z
LAST-MODIFIED:20260123T084929Z
UID:1987-1772640000-1772647200@khv-magdeburg.de
SUMMARY:MVV
DESCRIPTION:Mitgliedervertreterversammlung \nEs stehen die satzungsgemäß erforderliche Vorstandswahl und die satzungsgemäß erforderliche Berichterstattung über das Vereinsjahr 2025 auf der Tagesordnung. \nEingeladen sind neben den jeweiligen Gruppenvorsitzenden der Vorstand und Gäste\, darunter ehemalige Gruppenleiter. Bei evtl. Verhinderung bitte ich um die Entsendung eines Vertreters. \nMit freundlichen Grüßen \nJürgen Beining \nStellvertretender Vorsitzender
URL:https://khv-magdeburg.de/event/mvv/
LOCATION:Pik ASZ\, Leipziger Straße 43\, Magdeburg\, Sachsen-Anhalt\, 39120\, Germany
CATEGORIES:Verein
END:VEVENT
BEGIN:VEVENT
DTSTART;TZID=Europe/Berlin:20260305T170000
DTEND;TZID=Europe/Berlin:20260305T190000
DTSTAMP:20260425T134348
CREATED:20260121T141138Z
LAST-MODIFIED:20260125T135238Z
UID:2053-1772730000-1772737200@khv-magdeburg.de
SUMMARY:Fotoclub 88
DESCRIPTION:Auswertung Wettbewerb 4/2025 zum Thema „Energie“
URL:https://khv-magdeburg.de/event/fotoclub-88-2/
LOCATION:Pik ASZ\, Leipziger Straße 43\, Magdeburg\, Sachsen-Anhalt\, 39120\, Germany
CATEGORIES:Fotoclub 88
ATTACH;FMTTYPE=image/jpeg:https://khv-magdeburg.de/wp-content/uploads/2026/01/fc88-logo.jpg
END:VEVENT
BEGIN:VEVENT
DTSTART;TZID=Europe/Berlin:20260306T180000
DTEND;TZID=Europe/Berlin:20260306T200000
DTSTAMP:20260425T134348
CREATED:20260108T172013Z
LAST-MODIFIED:20260110T134031Z
UID:1615-1772820000-1772827200@khv-magdeburg.de
SUMMARY:Freundeskreis Zinnfiguren
DESCRIPTION:Zusammenkunft
URL:https://khv-magdeburg.de/event/freundeskreis-zinnfiguren-5/
LOCATION:Pik ASZ\, Leipziger Straße 43\, Magdeburg\, Sachsen-Anhalt\, 39120\, Germany
CATEGORIES:Zinnfiguren
ATTACH;FMTTYPE=image/jpeg:https://khv-magdeburg.de/wp-content/uploads/2026/01/FZM-2.jpg
END:VEVENT
BEGIN:VEVENT
DTSTART;TZID=Europe/Berlin:20260309T180000
DTEND;TZID=Europe/Berlin:20260309T190000
DTSTAMP:20260425T134348
CREATED:20260106T133629Z
LAST-MODIFIED:20260109T181742Z
UID:1489-1773079200-1773082800@khv-magdeburg.de
SUMMARY:Magdeburger Film- und Videoamateure
DESCRIPTION:offener Abend
URL:https://khv-magdeburg.de/event/magdeburger-film-und-videoamateure-5/
LOCATION:Pik ASZ\, Leipziger Straße 43\, Magdeburg\, Sachsen-Anhalt\, 39120\, Germany
CATEGORIES:Film- und Videoamateure
ATTACH;FMTTYPE=image/jpeg:https://khv-magdeburg.de/wp-content/uploads/2026/01/Dom.2-e1767799253451.jpg
END:VEVENT
BEGIN:VEVENT
DTSTART;TZID=Europe/Berlin:20260311T160000
DTEND;TZID=Europe/Berlin:20260311T170000
DTSTAMP:20260425T134348
CREATED:20251202T173344Z
LAST-MODIFIED:20260112T122511Z
UID:864-1773244800-1773248400@khv-magdeburg.de
SUMMARY:Junge Mineralogen
DESCRIPTION:Schleifen von Mineralen oder Gesteinsproben
URL:https://khv-magdeburg.de/event/schleifen-von-mineralen-oder-gesteinsproben/
LOCATION:Museum Magdeburg\, Otto-von-Guericke-Straße 68-73\,\, Magdeburg\, Sachsen-Anhalt\, 39104\, Germany
CATEGORIES:Junge Mineralogen
ATTACH;FMTTYPE=image/jpeg:https://khv-magdeburg.de/wp-content/uploads/2025/11/Ju-Min-e1766850842693.jpg
END:VEVENT
BEGIN:VEVENT
DTSTART;TZID=Europe/Berlin:20260311T180000
DTEND;TZID=Europe/Berlin:20260311T190000
DTSTAMP:20260425T134348
CREATED:20251129T144454Z
LAST-MODIFIED:20260112T123113Z
UID:770-1773252000-1773255600@khv-magdeburg.de
SUMMARY:Mineralogie und Geologie
DESCRIPTION:Die Geschichte des Bergbaus auf Steinkohle\, Kupferschiefer und Kali bei Wettin im unteren Saaletal \nEin Vortrag von Klaus Pursche\, Magdeburg
URL:https://khv-magdeburg.de/event/die-geschichte-des-bergbaus-auf-steinkohle-kupferschiefer-und-kali-bei-wettin-im-unteren-saaletal/
LOCATION:Pik ASZ\, Leipziger Straße 43\, Magdeburg\, Sachsen-Anhalt\, 39120\, Germany
CATEGORIES:Mineralogie und Geologie
ATTACH;FMTTYPE=image/jpeg:https://khv-magdeburg.de/wp-content/uploads/2025/11/Wettin-von-Sueden-3-scaled-e1765799433341.jpg
END:VEVENT
BEGIN:VEVENT
DTSTART;TZID=Europe/Berlin:20260317T190000
DTEND;TZID=Europe/Berlin:20260317T200000
DTSTAMP:20260425T134348
CREATED:20251226T102736Z
LAST-MODIFIED:20260224T183649Z
UID:1307-1773774000-1773777600@khv-magdeburg.de
SUMMARY:Deutsche Kakteengesellschaft OG MD
DESCRIPTION:Argentinien und seine Gymnos\n\nDr. Mario Wick
URL:https://khv-magdeburg.de/event/argen-nien-und-seine-gymnos/
LOCATION:Pik ASZ\, Leipziger Straße 43\, Magdeburg\, Sachsen-Anhalt\, 39120\, Germany
CATEGORIES:Deutsche Kakteengesellschaft
ATTACH;FMTTYPE=image/jpeg:https://khv-magdeburg.de/wp-content/uploads/2025/12/Maerz-v1.jpg
END:VEVENT
BEGIN:VEVENT
DTSTART;TZID=Europe/Berlin:20260318T173000
DTEND;TZID=Europe/Berlin:20260318T200000
DTSTAMP:20260425T134348
CREATED:20260112T075043Z
LAST-MODIFIED:20260123T084928Z
UID:1821-1773855000-1773864000@khv-magdeburg.de
SUMMARY:AG Genealogie
DESCRIPTION:Stammtisch in der „Stadtfeldklause“ (Essen: gegen 18:30 Uhr)
URL:https://khv-magdeburg.de/event/ag-genealogie-4/
LOCATION:Stadtfeldklause\, Große Diesdorfer Straße 202\, Magdeburg\, Sachsen-Anhalt\, 39110\, Germany
CATEGORIES:AG Genealogie
ATTACH;FMTTYPE=image/jpeg:https://khv-magdeburg.de/wp-content/uploads/2025/11/Genealogie-e1766850654941.jpg
END:VEVENT
BEGIN:VEVENT
DTSTART;TZID=Europe/Berlin:20260319T170000
DTEND;TZID=Europe/Berlin:20260319T190000
DTSTAMP:20260425T134348
CREATED:20260121T141139Z
LAST-MODIFIED:20260125T135321Z
UID:2054-1773939600-1773946800@khv-magdeburg.de
SUMMARY:Fotoclub 88
DESCRIPTION:Freies Thema (Uhrzeit ?? vielleicht auch Exkursion Elbauenpark)
URL:https://khv-magdeburg.de/event/fotoclub-88-3/
LOCATION:Pik ASZ\, Leipziger Straße 43\, Magdeburg\, Sachsen-Anhalt\, 39120\, Germany
CATEGORIES:Fotoclub 88
ATTACH;FMTTYPE=image/jpeg:https://khv-magdeburg.de/wp-content/uploads/2026/01/fc88-logo.jpg
END:VEVENT
BEGIN:VEVENT
DTSTART;TZID=Europe/Berlin:20260321T140000
DTEND;TZID=Europe/Berlin:20260321T160000
DTSTAMP:20260425T134348
CREATED:20260108T172029Z
LAST-MODIFIED:20260110T132310Z
UID:1616-1774101600-1774108800@khv-magdeburg.de
SUMMARY:Freundeskreis Zinnfiguren
DESCRIPTION:Malen \n(Ostern steht vor der Tür)
URL:https://khv-magdeburg.de/event/freundeskreis-zinnfiguren-6/
LOCATION:Pik ASZ\, Leipziger Straße 43\, Magdeburg\, Sachsen-Anhalt\, 39120\, Germany
CATEGORIES:Zinnfiguren
ATTACH;FMTTYPE=image/jpeg:https://khv-magdeburg.de/wp-content/uploads/2026/01/FZM-Ostern.jpg
END:VEVENT
BEGIN:VEVENT
DTSTART;TZID=Europe/Berlin:20260323T180000
DTEND;TZID=Europe/Berlin:20260323T190000
DTSTAMP:20260425T134348
CREATED:20260106T133632Z
LAST-MODIFIED:20260109T181737Z
UID:1490-1774288800-1774292400@khv-magdeburg.de
SUMMARY:Magdeburger Film- und Videoamateure
DESCRIPTION:offener Abend
URL:https://khv-magdeburg.de/event/magdeburger-film-und-videoamateure-6/
LOCATION:Pik ASZ\, Leipziger Straße 43\, Magdeburg\, Sachsen-Anhalt\, 39120\, Germany
CATEGORIES:Film- und Videoamateure
ATTACH;FMTTYPE=image/jpeg:https://khv-magdeburg.de/wp-content/uploads/2026/01/Dom.2-e1767799253451.jpg
END:VEVENT
BEGIN:VEVENT
DTSTART;TZID=Europe/Berlin:20260325T183000
DTEND;TZID=Europe/Berlin:20260325T200000
DTSTAMP:20260425T134348
CREATED:20251203T061823Z
LAST-MODIFIED:20251227T074414Z
UID:881-1774463400-1774468800@khv-magdeburg.de
SUMMARY:Philokartie Tauschtreff
DESCRIPTION:Ansichtskarten: gucken\, tauschen und plaudern
URL:https://khv-magdeburg.de/event/philokartie-tauschtreff-3/
LOCATION:Pik ASZ\, Leipziger Straße 43\, Magdeburg\, Sachsen-Anhalt\, 39120\, Germany
CATEGORIES:Philokartie
ATTACH;FMTTYPE=image/jpeg:https://khv-magdeburg.de/wp-content/uploads/2025/12/Philokartie-1.jpg
END:VEVENT
END:VCALENDAR