BEGIN:VCALENDAR
VERSION:2.0
PRODID:-//Kultur und Heimatverein Magdeburg - ECPv6.15.20//NONSGML v1.0//EN
CALSCALE:GREGORIAN
METHOD:PUBLISH
X-ORIGINAL-URL:https://khv-magdeburg.de
X-WR-CALDESC:Veranstaltungen für Kultur und Heimatverein Magdeburg
REFRESH-INTERVAL;VALUE=DURATION:PT1H
X-Robots-Tag:noindex
X-PUBLISHED-TTL:PT1H
BEGIN:VTIMEZONE
TZID:Europe/Berlin
BEGIN:DAYLIGHT
TZOFFSETFROM:+0100
TZOFFSETTO:+0200
TZNAME:CEST
DTSTART:20250330T010000
END:DAYLIGHT
BEGIN:STANDARD
TZOFFSETFROM:+0200
TZOFFSETTO:+0100
TZNAME:CET
DTSTART:20251026T010000
END:STANDARD
BEGIN:DAYLIGHT
TZOFFSETFROM:+0100
TZOFFSETTO:+0200
TZNAME:CEST
DTSTART:20260329T010000
END:DAYLIGHT
BEGIN:STANDARD
TZOFFSETFROM:+0200
TZOFFSETTO:+0100
TZNAME:CET
DTSTART:20261025T010000
END:STANDARD
BEGIN:DAYLIGHT
TZOFFSETFROM:+0100
TZOFFSETTO:+0200
TZNAME:CEST
DTSTART:20270328T010000
END:DAYLIGHT
BEGIN:STANDARD
TZOFFSETFROM:+0200
TZOFFSETTO:+0100
TZNAME:CET
DTSTART:20271031T010000
END:STANDARD
END:VTIMEZONE
BEGIN:VEVENT
DTSTART;TZID=Europe/Berlin:20260425T140000
DTEND;TZID=Europe/Berlin:20260425T160000
DTSTAMP:20260425T122328
CREATED:20260108T172031Z
LAST-MODIFIED:20260110T131351Z
UID:1618-1777125600-1777132800@khv-magdeburg.de
SUMMARY:Freundeskreis Zinnfiguren
DESCRIPTION:Malen
URL:https://khv-magdeburg.de/event/freundeskreis-zinnfiguren-8/
LOCATION:Pik ASZ\, Leipziger Straße 43\, Magdeburg\, Sachsen-Anhalt\, 39120\, Germany
CATEGORIES:Zinnfiguren
ATTACH;FMTTYPE=image/jpeg:https://khv-magdeburg.de/wp-content/uploads/2026/01/Malen1.jpg
END:VEVENT
BEGIN:VEVENT
DTSTART;TZID=Europe/Berlin:20260426T000000
DTEND;TZID=Europe/Berlin:20260726T235959
DTSTAMP:20260425T122328
CREATED:20260109T080559Z
LAST-MODIFIED:20260109T181345Z
UID:1672-1777161600-1785110399@khv-magdeburg.de
SUMMARY:Fluch des Goldes
DESCRIPTION:Zinnfiguren Ausstellung in Wolmirstedt
URL:https://khv-magdeburg.de/event/fluch-des-goldes-2/
LOCATION:Museum Wolmirstedt\, Schlossdomäne 4\, Wolmirstedt\, Sachsen-Anhalt\, 39326
CATEGORIES:Zinnfiguren
ATTACH;FMTTYPE=image/jpeg:https://khv-magdeburg.de/wp-content/uploads/2025/11/Ausstellung-Fluch-des-Goldes-e1767946610158.jpg
END:VEVENT
BEGIN:VEVENT
DTSTART;TZID=Europe/Berlin:20260426T100000
DTEND;TZID=Europe/Berlin:20260426T170000
DTSTAMP:20260425T122328
CREATED:20260224T150927Z
LAST-MODIFIED:20260327T163002Z
UID:2318-1777197600-1777222800@khv-magdeburg.de
SUMMARY:Kirschblütenfest
DESCRIPTION:Die Deutsche Kakteengesellschaft Ortsgruppe Herman Gruson Magdeburg beteiligt sich am 26. April 2026 mit einem Verkaufsstand am Kirschblütenfest auf dem Holzweg in Magdeburg. Den Stand finden Sie zwischen den anderen Ständen direkt unter den Kirschbäumen am Holzweg. Es gibt Kakteen und andere Pflanzen. Wir freuen uns auf ihren Besuch.
URL:https://khv-magdeburg.de/event/kirschbluetenfest/
LOCATION:Kirschblütenfest Magdeburg Holzweg\, Holzweg 0\, Magdeburg\, Sachsen-Anhalt\, 39128\, Germany
CATEGORIES:Deutsche Kakteengesellschaft
ATTACH;FMTTYPE=image/jpeg:https://khv-magdeburg.de/wp-content/uploads/2026/02/Kirschkakteen-e1771958654987.jpg
END:VEVENT
BEGIN:VEVENT
DTSTART;TZID=Europe/Berlin:20260429T183000
DTEND;TZID=Europe/Berlin:20260429T200000
DTSTAMP:20260425T122328
CREATED:20251203T061823Z
LAST-MODIFIED:20251227T074414Z
UID:882-1777487400-1777492800@khv-magdeburg.de
SUMMARY:Philokartie Tauschtreff
DESCRIPTION:Ansichtskarten: gucken\, tauschen und plaudern
URL:https://khv-magdeburg.de/event/philokartie-tauschtreff-4/
LOCATION:Pik ASZ\, Leipziger Straße 43\, Magdeburg\, Sachsen-Anhalt\, 39120\, Germany
CATEGORIES:Philokartie
ATTACH;FMTTYPE=image/jpeg:https://khv-magdeburg.de/wp-content/uploads/2025/12/Philokartie-1.jpg
END:VEVENT
END:VCALENDAR